BEGIN:VCALENDAR
VERSION:2.0
PRODID:-//Buitenplaats Onderdemolen - ECPv6.15.20//NONSGML v1.0//EN
CALSCALE:GREGORIAN
METHOD:PUBLISH
X-ORIGINAL-URL:https://www.onderdemolen.eu
X-WR-CALDESC:Evenementen voor Buitenplaats Onderdemolen
REFRESH-INTERVAL;VALUE=DURATION:PT1H
X-Robots-Tag:noindex
X-PUBLISHED-TTL:PT1H
BEGIN:VTIMEZONE
TZID:Europe/Amsterdam
BEGIN:DAYLIGHT
TZOFFSETFROM:+0100
TZOFFSETTO:+0200
TZNAME:CEST
DTSTART:20240331T010000
END:DAYLIGHT
BEGIN:STANDARD
TZOFFSETFROM:+0200
TZOFFSETTO:+0100
TZNAME:CET
DTSTART:20241027T010000
END:STANDARD
BEGIN:DAYLIGHT
TZOFFSETFROM:+0100
TZOFFSETTO:+0200
TZNAME:CEST
DTSTART:20250330T010000
END:DAYLIGHT
BEGIN:STANDARD
TZOFFSETFROM:+0200
TZOFFSETTO:+0100
TZNAME:CET
DTSTART:20251026T010000
END:STANDARD
BEGIN:DAYLIGHT
TZOFFSETFROM:+0100
TZOFFSETTO:+0200
TZNAME:CEST
DTSTART:20260329T010000
END:DAYLIGHT
BEGIN:STANDARD
TZOFFSETFROM:+0200
TZOFFSETTO:+0100
TZNAME:CET
DTSTART:20261025T010000
END:STANDARD
END:VTIMEZONE
BEGIN:VEVENT
DTSTART;VALUE=DATE:20250809
DTEND;VALUE=DATE:20250810
DTSTAMP:20260422T035018
CREATED:20250718T120849Z
LAST-MODIFIED:20250719T115704Z
UID:10009-1754697600-1754783999@www.onderdemolen.eu
SUMMARY:Springkussen
DESCRIPTION:Hüpfburg für die Kinder
URL:https://www.onderdemolen.eu/event/sptringkussen/
LOCATION:De Wiek
CATEGORIES:Evenementen in ODM
END:VEVENT
BEGIN:VEVENT
DTSTART;TZID=Europe/Amsterdam:20250809T193000
DTEND;TZID=Europe/Amsterdam:20250809T220000
DTSTAMP:20260422T035018
CREATED:20250805T143732Z
LAST-MODIFIED:20250805T143732Z
UID:10063-1754767800-1754776800@www.onderdemolen.eu
SUMMARY:Bingo
DESCRIPTION:
URL:https://www.onderdemolen.eu/event/bingo-3/
LOCATION:De Wiek
CATEGORIES:Evenementen in ODM
ATTACH;FMTTYPE=image/png:https://www.onderdemolen.eu/wp-content/uploads/2025/08/bingo_090925.png
END:VEVENT
END:VCALENDAR